BEGIN:VCALENDAR
VERSION:2.0
PRODID:-//Entente communale d&#039;Echallens - ECPv5.9.1//NONSGML v1.0//EN
CALSCALE:GREGORIAN
METHOD:PUBLISH
X-WR-CALNAME:Entente communale d&#039;Echallens
X-ORIGINAL-URL:https://entente-echallens.ch
X-WR-CALDESC:évènements pour Entente communale d&#039;Echallens
BEGIN:VTIMEZONE
TZID:Europe/Zurich
BEGIN:DAYLIGHT
TZOFFSETFROM:+0100
TZOFFSETTO:+0200
TZNAME:CEST
DTSTART:20250330T010000
END:DAYLIGHT
BEGIN:STANDARD
TZOFFSETFROM:+0200
TZOFFSETTO:+0100
TZNAME:CET
DTSTART:20251026T010000
END:STANDARD
END:VTIMEZONE
BEGIN:VEVENT
DTSTART;TZID=Europe/Zurich:20250801T170000
DTEND;TZID=Europe/Zurich:20250801T233000
DTSTAMP:20260424T083438
CREATED:20250726T155206Z
LAST-MODIFIED:20250726T155206Z
UID:29906-1754067600-1754091000@entente-echallens.ch
SUMMARY:Fête du 1er août
DESCRIPTION:Comme le veut la tradition\, vous êtes toutes et tous invités à la fête nationale organisée par la commune\, sur la place de la gare.\nPlus d’informations sur le site de la Commune.
URL:https://entente-echallens.ch/event/fete-du-1er-aout/
LOCATION:Place de la Gare
ATTACH;FMTTYPE=image/jpeg:https://entente-echallens.ch/wp-content/uploads/2025/07/fete-1er-aout_3000.jpg
END:VEVENT
END:VCALENDAR