BEGIN:VCALENDAR
VERSION:2.0
PRODID:-//Entente communale d&#039;Echallens - ECPv5.9.1//NONSGML v1.0//EN
CALSCALE:GREGORIAN
METHOD:PUBLISH
X-WR-CALNAME:Entente communale d&#039;Echallens
X-ORIGINAL-URL:https://entente-echallens.ch
X-WR-CALDESC:évènements pour Entente communale d&#039;Echallens
BEGIN:VTIMEZONE
TZID:Europe/Zurich
BEGIN:DAYLIGHT
TZOFFSETFROM:+0100
TZOFFSETTO:+0200
TZNAME:CEST
DTSTART:20250330T010000
END:DAYLIGHT
BEGIN:STANDARD
TZOFFSETFROM:+0200
TZOFFSETTO:+0100
TZNAME:CET
DTSTART:20251026T010000
END:STANDARD
END:VTIMEZONE
BEGIN:VEVENT
DTSTART;TZID=Europe/Zurich:20250918T190000
DTEND;TZID=Europe/Zurich:20250918T210000
DTSTAMP:20260424T071811
CREATED:20250917T172533Z
LAST-MODIFIED:20250917T172533Z
UID:29931-1758222000-1758229200@entente-echallens.ch
SUMMARY:Je m'engage pour ma commune
DESCRIPTION:Le jeudi 18 septembre\, 19h à la salle du Château\, soirée d’information « Je m’engage pour ma commune »\, qui favorise l’engagement politique des citoyen.ne.s de tous bords.
URL:https://entente-echallens.ch/event/je-mengage-pour-ma-commune/
LOCATION:Salle du Conseil\, Place du Château 4\, Echallens\, 1040\, Switzerland
END:VEVENT
END:VCALENDAR